BEGIN:VCALENDAR
VERSION:2.0
PRODID:-//Wunderbar Weite Welt - Restaurant, Bar, Café und Eventlocation in Eppstein - ECPv6.15.13.1//NONSGML v1.0//EN
CALSCALE:GREGORIAN
METHOD:PUBLISH
X-WR-CALNAME:Wunderbar Weite Welt - Restaurant, Bar, Café und Eventlocation in Eppstein
X-ORIGINAL-URL:https://www.wunderbar-weitewelt.de
X-WR-CALDESC:Veranstaltungen für Wunderbar Weite Welt - Restaurant, Bar, Café und Eventlocation in Eppstein
REFRESH-INTERVAL;VALUE=DURATION:PT1H
X-Robots-Tag:noindex
X-PUBLISHED-TTL:PT1H
BEGIN:VTIMEZONE
TZID:UTC
BEGIN:STANDARD
TZOFFSETFROM:+0000
TZOFFSETTO:+0000
TZNAME:UTC
DTSTART:20250101T000000
END:STANDARD
END:VTIMEZONE
BEGIN:VEVENT
DTSTART;TZID=UTC:20260416T200000
DTEND;TZID=UTC:20260416T233000
DTSTAMP:20260422T103951
CREATED:20260105T132220Z
LAST-MODIFIED:20260416T121221Z
UID:13025-1776369600-1776382200@www.wunderbar-weitewelt.de
SUMMARY:Peter Karp Band mit Mark Johnson ( Delta Moon )
DESCRIPTION:Peter Karp bekam in der letzte Woche ausgelieferten Ausgabe der Blues News 125 eine 2-seitige Rezension mit dem Titel : “ Zwischen Bruce und Blues „ \nDarin erfährt man was Bruce Springsteen mit Peter´s Karriere zu tun hat und warum Frauen wie Sue Foley von großer Bedeutung waren und was genau in seiner Jugend in Jersey Town los war ! \nAm Ende dieses Berichtes findes ihr den Artikel der Blues News. \n„Peter Karp ist ein Star. Von seinen kraftvollen Slide-Gitarrensoli über seine beobachtungsstarken und ach so wahrhaftigen Songtexte bis hin zu seiner gefühlvollen\, ausdrucksstarken Stimme\, die vor Anspielungen nur so strotzt. Der Typ ist verdammt unterhaltsam.“ Goldmine Magazine \n \n  \n  \n  \n  \n  \n  \n  \n  \nPeter Karp zählt zu den herausragenden zeitgenössischen Singer/Songwritern der Americana-\, Blues- und Roots-Musik. Er ist bekannt für seine kraftvolle Stimme\, sein ausdrucksstarkes Gitarren- und Pianospiel sowie seine energiegeladenen und emotional intensiven Live-Auftritte. Seine Songs verbinden Blues\, Folk\, Americana und Rock ’n’ Roll und erzählen mit großer Ehrlichkeit Geschichten aus persönlicher Erfahrung und dem wirklichen Leben. Geboren in Leonia\, New Jersey\, wuchs Karp zwischen der kulturellen Vielfalt New York Citys und den Arbeiterstädten am Hudson River auf. Schon als Kind kam er mit Live-Musik in Berührung und erlebte in den 1960er Jahren die Beatles\, die British Invasion und die großen Motown-Acts. Prägend war auch seine Zeit im ländlichen Alabama\, wo er früh mit den Wurzeln des Blues in Kontakt kam – mit Künstlern wie Robert Johnson\, Muddy Waters oder Howlin’ Wolf. \nMit 9 Jahren zog Peter Karp zu seinem Vater in einen Wohnwagenpark im ländlichen Enterprise\, Alabama\, wo er tief in die Wurzeln des Blues eintauchte. Aus einem kleinen Transistorradio klangen Künstler wie Sun House\, Robert Johnson\, Muddy Waters\, Elmore James und Howlin’ Wolf und prägten nachhaltig seinen musikalischen Weg. In den frühen 1980er Jahren gründete er seine erste Band They Came From Houses\, die sich schnell einen festen Platz in der aufstrebenden New Yorker Underground-Szene erspielte und in legendären Clubs wie CBGBs\, Folk City und dem Mudd Club auftrat. Karp teilte die Bühne mit Künstlern wie Marshall Crenshaw\, Mink DeVille\, den Stray Cats\, John Hammond Jr.\, George Thorogood und David Johansen. Trotz dieser Erfolge wandte er sich vorübergehend von der Musikindustrie ab und lehnte einen Plattenvertrag ab\, um mehr Zeit mit seiner Familie zu verbringen. Während seiner Arbeit als Filmregisseur für Werbe-\, Dokumentar- und Kurzfilme sowie als Jingle-Komponist blieb er der Musik verbunden und vertiefte sein Songwriting durch den Austausch mit erfahrenen Künstlern wie Willie Dixon\, Robert Lockwood Jr.\, Jonnie Johnson\, Sammy Cahn\, Bruce Springsteen\, Van Morrison\, Jackson Browne und Richie Havens. Er nahm sich auch Zeit\, um sein Interesse an der afroamerikanischen Kultur und der einheimischen Musik der Sea Islands vor der Küste von Georgia und South Carolina zu vertiefen\, indem er beim Gullah Festival in Beaufort\, South Carolina\, auftrat. In den 90er Jahren kehrte Karp wieder vollzeitlich zur Musik zurück und schrieb Songs\, die seine gesammelten Lebenserfahrungen widerspiegelten. \nSein Engagement führte 1998 zur ersten unabhängigen Veröffentlichung Live at the Americana Roadhouse\, die Mick Taylor auf ihn aufmerksam machte. Daraus entstand eine Zusammenarbeit und Tournee\, die Karps nationale Bekanntheit steigerte. Mit Shadows and Cracks (2007) erreichte er erstmals die Top 5 der Billboard-Charts. Auch He Said – She Said (2010) mit Sue Foley war dort erfolgreich\, während Beyond the Crossroads 2012 zur CD des Jahres gekürt wurde. The Arson’s Match (2016)\, erneut mit Mick Taylor\, erhielt mehrere Award-Nominierungen. \nMit den gefeierten Alben Alabama Town\, The Blue Flame und Magnificent Heart festigte Karp seinen Ruf als herausragender Songwriter\, wurde mit einem Master-Abschluss in Komposition ausgezeichnet und tourte weltweit mit Künstlern wie Keb’ Mo’\, Steve Miller und John Mayall. Für Karp steht dabei stets eines im Mittelpunkt: absolute Ehrlichkeit gegenüber sich selbst und seinem Publikum. \n \n  \n  \n  \n  \n  \n  \nAbgesehen von den Lobeshymnen ist Karp ein Geschichtenerzähler\, der auch ein selbstbewusster Sänger\, ein einfühlsamer Songwriter\, ein fesselnder Performer und ein mitreißender Slide-Gitarrist mit beachtlichen Keyboard-Fähigkeiten ist. Als Multitalent wechselt Karp zwischen mehreren Instrumenten hin und her und spielt elektrische Resonator-Slide-Gitarre\, Akustikgitarre sowie Mundharmonika und Klavier. Jeder Track wird von seiner gefühlvollen Stimme und seinem originellen Songwriting-Stil getragen. \nAuf Jersey Town\, das im letzten Jahr entstanden ist\, nachdem die Peter Karp Band unermüdlich in immer größeren Veranstaltungsorten und auf Festivals vor einer wachsenden Fangemeinde in Europa und den USA gespielt hat\, setzt sie weiterhin ihren eigenen einzigartigen Weg fort\, mit einem Sound\, der in den Sümpfen von New Jersey und den Wohnwagenparks im Süden Alabamas entstanden ist. \n„Leute wie Peter Karp\, James Taylor und Bob Dylan verkörpern den Americana Blues\, und wir Engländer lassen uns davon inspirieren.“ – Mick Taylor\, The Rolling Stones \n  \n \n  \n  \n  \n  \n  \n  \nAls Songwriter erlangte Karp erstmals nationale Aufmerksamkeit\, als der Gitarrist Mick Taylor von den Rolling Stones sein drittes Album aufnahm und mit Karp auf Tournee ging. Dies führte zu einem Vertrag bei Blind Pig Records\, wo er Shadows and Cracks veröffentlichte und damit die Top 10 der Billboard- und Blues-Charts erreichte. \nEr arbeitete weiterhin mit den Besten der Branche zusammen\, darunter eine siebenjährige Partnerschaft mit der kanadischen Bluesgitarristin Sue Foley als Karp-Foley Band\, bevor er sich wieder seiner eigenen Band widmete und 2016 und 2017 zwei weitere Soloalben veröffentlichte. Karp hat im Laufe seiner Karriere viele bedeutende Auszeichnungen erhalten\, darunter Spitzenplatzierungen in den Blues-Charts mit jedem seiner letzten Alben. \n \n  \n  \n  \n  \n  \n  \n  \nKarp ist ein einzigartiger Musiker\, der sich durch seine Fähigkeit auszeichnet\, mit seiner musikalischen Leidenschaft zeitlose Emotionen zu wecken. Er verkörpert die Kraft und Seele von Springsteen\, Jerry Lee Lewis und Otis Redding und bietet eine der unterhaltsamsten Shows\, die Sie je gesehen haben. \nFür die Fans und Insider in Eppstein ist wichtig zu wissen\, dass Mark Johnson von Delta Moon nun die Gitarre in der Peter Karp Band spielt\, nachdem der Bandleader Tom Gray gestorben ist und sich die Band aufgelöst hat. \nPeter Karp Band :  \nPeter Karp: Piano\, Guitar\, Vocals  \nMark Johnson: Guitar\,  \nSebastian Stolz: Bass  \nTarik Dosdogru: Drums \n  \n      \n 
URL:https://www.wunderbar-weitewelt.de/veranstaltung-und-konzerte/peter-karp-band/
CATEGORIES:Konzert
ATTACH;FMTTYPE=image/png:https://www.wunderbar-weitewelt.de/wp-content/uploads/2026/01/The-Peter-Karp-Band-Poster-300DPI.png
END:VEVENT
END:VCALENDAR