BEGIN:VCALENDAR
VERSION:2.0
PRODID:-//Wunderbar Weite Welt - Restaurant, Bar, Café und Eventlocation in Eppstein - ECPv6.15.13.1//NONSGML v1.0//EN
CALSCALE:GREGORIAN
METHOD:PUBLISH
X-WR-CALNAME:Wunderbar Weite Welt - Restaurant, Bar, Café und Eventlocation in Eppstein
X-ORIGINAL-URL:https://www.wunderbar-weitewelt.de
X-WR-CALDESC:Veranstaltungen für Wunderbar Weite Welt - Restaurant, Bar, Café und Eventlocation in Eppstein
REFRESH-INTERVAL;VALUE=DURATION:PT1H
X-Robots-Tag:noindex
X-PUBLISHED-TTL:PT1H
BEGIN:VTIMEZONE
TZID:UTC
BEGIN:STANDARD
TZOFFSETFROM:+0000
TZOFFSETTO:+0000
TZNAME:UTC
DTSTART:20250101T000000
END:STANDARD
END:VTIMEZONE
BEGIN:VEVENT
DTSTART;TZID=UTC:20260603T200000
DTEND;TZID=UTC:20260603T230000
DTSTAMP:20260423T150324
CREATED:20251127T134004Z
LAST-MODIFIED:20260416T145748Z
UID:12701-1780516800-1780527600@www.wunderbar-weitewelt.de
SUMMARY:Hippies & Cowboys aus Nashville mit Rockn´Soul im Gepäck
DESCRIPTION:Wow\, was für eine Band – schon der Name Hippies & Cowboys hat mich neugierig gemacht – und dann dieser Sound – mich hat es spontan an die Teskey Brothers erinnert\, die ich sehr verehre. \nHippies And Cowboys sind eine Rock-’n’-Soul-Band aus Nashville\, Tennessee. \n \n  \n  \n  \n  \n  \n  \n  \nMit ihrem Sound\, der an Southern Rock\, Blues und Soul erinnert\, haben sie sich über die Jahre hinweg bewährt. \nInspiration finden sie bei Künstlern wie Sam and Dave\, The Blues Brothers\, Booker T & The MG’s\, Otis Redding und Marvin Gaye bis hin zu Aerosmith\, Lynyrd Skynyrd\, The Eagles\, The Beatles\, Tom Petty\, The Rolling Stones und CCR. \n \n  \n  \n  \n  \n  \n  \n  \n  \nDie ersten Titel wurden in den legendären Studios von Muscle Shoals\, Alabama\, aufgenommen: Fame\, East Avalon und Noise Block. \nDiese Musik wurde auf dem Album Live At Fox & Locke festgehalten und im Oktober 2023 auf Vinyl veröffentlicht. \n \n  \n  \n  \n  \n  \n  \nSpäter im selben Jahr versammelte sich die Band im Purple House Studio in Lieper’s Fork\, Tennessee. \nAus diesen Sessions entstand ihre erste Studioveröffentlichung\, eine EP mit sechs Songs namens Fork In The Road\, die Ende 2024 auf Vinyl\, CD und digital weltweit erschien. \nAls aufstrebende Newcomer-Band sind sie quer durch das ganze Land gereist und haben Konzerte in Florida\, Detroit und überall dazwischen gegeben. \n \n  \n  \n  \n  \n  \n  \nMan kann sie regelmäßig auf dem Broadway in Nashville\, Tennessee\, im Kid Rock’s\, Johnny Cash’s und Tin Roof sehen. \nIhre musikalischen Einflüsse und Vorlieben variieren von Mitglied zu Mitglied. Dennoch haben sie alle eines gemeinsam: ihre Liebe zu klassischem Rock und Soulmusik. \nUnd nun Live and direct in der WWW in Eppstein ! \n \n  \n  \n  \n  \n  \n  \n  \n  \nThe Hippies & Cowboys sind: \nAaron Sparling: Lead-Gesang\, Rhythmusgitarre \nScott Metko: Schlagzeug \nKent Taro Yamamuro: Lead-Gitarre \nKevin Riley Corbo: Bassgitarre \nConnor Lafollotte: Keyboard
URL:https://www.wunderbar-weitewelt.de/veranstaltung-und-konzerte/hippies-cowboys-aus-nashville-mit-rocknsoul-im-gepaeck/
LOCATION:Wunderbar Weite Welt\, Am Stadtbahnhof 1\, Eppstein\, Hessen\, 65817\, Germany
CATEGORIES:Konzert
ATTACH;FMTTYPE=image/jpeg:https://www.wunderbar-weitewelt.de/wp-content/uploads/2025/11/T6KXknHQ.jpeg
END:VEVENT
END:VCALENDAR