BEGIN:VCALENDAR
VERSION:2.0
PRODID:-//Wunderbar Weite Welt - Restaurant, Bar, Café und Eventlocation in Eppstein - ECPv6.15.13.1//NONSGML v1.0//EN
CALSCALE:GREGORIAN
METHOD:PUBLISH
X-WR-CALNAME:Wunderbar Weite Welt - Restaurant, Bar, Café und Eventlocation in Eppstein
X-ORIGINAL-URL:https://www.wunderbar-weitewelt.de
X-WR-CALDESC:Veranstaltungen für Wunderbar Weite Welt - Restaurant, Bar, Café und Eventlocation in Eppstein
REFRESH-INTERVAL;VALUE=DURATION:PT1H
X-Robots-Tag:noindex
X-PUBLISHED-TTL:PT1H
BEGIN:VTIMEZONE
TZID:UTC
BEGIN:STANDARD
TZOFFSETFROM:+0000
TZOFFSETTO:+0000
TZNAME:UTC
DTSTART:20250101T000000
END:STANDARD
END:VTIMEZONE
BEGIN:VEVENT
DTSTART;VALUE=DATE:20261105
DTEND;VALUE=DATE:20261106
DTSTAMP:20260422T104258
CREATED:20260105T153333Z
LAST-MODIFIED:20260311T152429Z
UID:13052-1793836800-1793923199@www.wunderbar-weitewelt.de
SUMMARY:Cinema Stereo - bluesbasierte Rock ‚n‘ Roll-Trio
DESCRIPTION:Wieder eine neue Rockband aus dem Hause Teenage Head Music – Home for Robert Jon & The Wreck\, Delta Saints\, Stone Senate\, Samantha Martin\, The Broadcast\,Handsome Jack\, Mojo Thunder\, Hogjaw u.v.a. \nMit großen Träumen und jeder Menge Energie ausgestattet\, ist Cinema Stereo eine melodische Rockband aus Orlando\, Florida. Mit ihren mitreißenden Eigenkompositionen hat dieses bluesbasierte Rock ‚n‘ Roll-Trio bereits zahlreiche Veranstaltungsorte in Florida zum Kochen gebracht. \n \n  \n  \n  \n  \n  \n  \nCinema Stereo besteht aus Ian Rayha (Lead-Gesang/Bass/Synthesizer)\, Sebastian Borysek (Lead-Gitarre) und Luke Pate (Schlagzeug). Die Band begann im Oktober 2019 mit dem Schreiben von Musik und ihr selbstbetiteltes Debütalbum erscheint morgen\, am 24. Juni. \nCinema Stereo möchte durch seine Auftritte Authentizität vermitteln\, die Welt positiv beeinflussen und durch seine Musik mit Gleichgesinnten in Kontakt treten. \nIhr selbstbetiteltes Album kombiniert die Klänge des klassischen bluesbasierten Rock ‚n‘ Roll\, Pop-Sensibilität und Innovationsfreude\, um Cinema Stereo zu schaffen. \n \n  \n  \n  \n  \n  \n  \n  \n  \nDie aus Orlando\, Florida\, stammende Band Cinema Stereo ist eine energiegeladene Rockband mit einem raffinierten Sound\, der Positivität vermittelt. \nZu ihren Vorbildern zählen Bands und Künstler wie Queen\, Led Zeppelin\, Rush\, Aerosmith\, Stevie Ray Vaughan\, David Bowie und The Doors. \n \n  \n  \n  \n  \n  \n  \n  \nAls selbstbewusste und progressive Visionäre verfügt die Band über die angeborene Fähigkeit\, verschiedene Stile in ihrer musikalischen Darbietung zu verschmelzen und gleichzeitig ein für das Branding geeignetes Label beizubehalten – Faktoren\, die diese Band zu einer Band machen\, die man im Auge behalten sollte. \n„Für mich ist dieses Werk unbeabsichtigt konzeptionell. Es taucht tief in die Gedankenwelt eines verlorenen\, aber ehrgeizigen jungen Erwachsenen ein\, der den Wert jedes einzelnen Tages entdeckt hat.“ – Ian Rayha von CINEMA STEREO \n \n  \n  \n  \n  \nCinema Stereo entstand während der Pandemie und ist das geistige Kind von Ian und Sebastian\, die bereits im Oktober 2019 begannen\, Musik für die Band zu schreiben. Nachdem sie über ein Jahr lang nach einem Schlagzeuger gesucht hatten\, holten die beiden schließlich Luke in die Band. Damit war die Band geboren. \n \n  \n  \n  \n  \n  \nMit ihren mitreißenden Originalstücken hat die Rockband bereits zahlreiche Veranstaltungsorte in Florida zum Kochen gebracht. In der Hoffnung\, durch ihre Auftritte Authentizität zu vermitteln\, plant Cinema Stereo\, in naher Zukunft noch mehr Material für ihre Fans zu veröffentlichen und neue Fans zu erreichen.Nun kommen sie über den Ozean und wollen Europa für sich gewinnen ! Wir werden sie unterstützen …. \n 
URL:https://www.wunderbar-weitewelt.de/veranstaltung-und-konzerte/cinema-stereo/
CATEGORIES:Konzert
ATTACH;FMTTYPE=image/webp:https://www.wunderbar-weitewelt.de/wp-content/uploads/2026/01/cinstereo.webp
END:VEVENT
END:VCALENDAR